BEGIN:VCALENDAR
VERSION:2.0
PRODID:-//D&amp;H Toys &amp; Collectibles - ECPv6.3.6//NONSGML v1.0//EN
CALSCALE:GREGORIAN
METHOD:PUBLISH
X-WR-CALNAME:D&amp;H Toys &amp; Collectibles
X-ORIGINAL-URL:https://dhtoysmn.com
X-WR-CALDESC:Events for D&amp;H Toys &amp; Collectibles
REFRESH-INTERVAL;VALUE=DURATION:PT1H
X-Robots-Tag:noindex
X-PUBLISHED-TTL:PT1H
BEGIN:VTIMEZONE
TZID:America/Chicago
BEGIN:DAYLIGHT
TZOFFSETFROM:-0600
TZOFFSETTO:-0500
TZNAME:CDT
DTSTART:20260308T080000
END:DAYLIGHT
BEGIN:STANDARD
TZOFFSETFROM:-0500
TZOFFSETTO:-0600
TZNAME:CST
DTSTART:20261101T070000
END:STANDARD
END:VTIMEZONE
BEGIN:VEVENT
DTSTART;TZID=America/Chicago:20260411T180000
DTEND;TZID=America/Chicago:20260411T210000
DTSTAMP:20260421T105510
CREATED:20260308T210832Z
LAST-MODIFIED:20260308T211345Z
UID:10893-1775930400-1775941200@dhtoysmn.com
SUMMARY:Open Magic the Gathering Commander Night
DESCRIPTION:Join us and play a casual game of Commander with room for up to 16 players.  Please contact us to sign up for a spot.  Registration will begin at 5:45 pm with games starting at 6:00 pm.
URL:https://dhtoysmn.com/event/open-magic-the-gathering-commander-night-3/
LOCATION:D&H Toys & Collectibles\, 1272 Vierling Drive East\, Shakopee\, MN\, 55379\, United States
ORGANIZER;CN="D&H Toys & Collectibles":MAILTO:dh.toys.mn@gmail.com
END:VEVENT
BEGIN:VEVENT
DTSTART;TZID=America/Chicago:20260404T180000
DTEND;TZID=America/Chicago:20260404T210000
DTSTAMP:20260421T105510
CREATED:20260308T210510Z
LAST-MODIFIED:20260308T210616Z
UID:10886-1775325600-1775336400@dhtoysmn.com
SUMMARY:Open Magic the Gathering Commander Night
DESCRIPTION:Join us and play a casual game of Commander with room for up to 16 players.  Please contact us to sign up for a spot.  Registration will begin at 5:45 pm with games starting at 6:00 pm.
URL:https://dhtoysmn.com/event/open-magic-the-gathering-commander-night-copy-copy/
LOCATION:D&H Toys & Collectibles\, 1272 Vierling Drive East\, Shakopee\, MN\, 55379\, United States
ORGANIZER;CN="D&H Toys & Collectibles":MAILTO:dh.toys.mn@gmail.com
END:VEVENT
BEGIN:VEVENT
DTSTART;TZID=America/Chicago:20260328T180000
DTEND;TZID=America/Chicago:20260328T210000
DTSTAMP:20260421T105510
CREATED:20260308T210406Z
LAST-MODIFIED:20260308T210708Z
UID:10883-1774720800-1774731600@dhtoysmn.com
SUMMARY:Open Magic the Gathering Commander Night
DESCRIPTION:Join us and play a casual game of Commander with room for up to 16 players.  Please contact us to sign up for a spot.  Registration will begin at 5:45 pm with games starting at 6:00 pm.
URL:https://dhtoysmn.com/event/open-magic-the-gathering-commander-night-2/
LOCATION:D&H Toys & Collectibles\, 1272 Vierling Drive East\, Shakopee\, MN\, 55379\, United States
ORGANIZER;CN="D&H Toys & Collectibles":MAILTO:dh.toys.mn@gmail.com
END:VEVENT
BEGIN:VEVENT
DTSTART;TZID=America/Chicago:20260321T180000
DTEND;TZID=America/Chicago:20260321T210000
DTSTAMP:20260421T105510
CREATED:20260228T190744Z
LAST-MODIFIED:20260308T210329Z
UID:10868-1774116000-1774126800@dhtoysmn.com
SUMMARY:Open Magic the Gathering Commander Night
DESCRIPTION:Join us and play a casual game of Commander with room for up to 16 players.  Please contact us to sign up for a spot.  Registration will begin at 5:45 pm with games starting at 6:00 pm.
URL:https://dhtoysmn.com/event/open-magic-the-gathering-commander-night/
LOCATION:D&H Toys & Collectibles\, 1272 Vierling Drive East\, Shakopee\, MN\, 55379\, United States
ORGANIZER;CN="D&H Toys & Collectibles":MAILTO:dh.toys.mn@gmail.com
END:VEVENT
BEGIN:VEVENT
DTSTART;TZID=America/Chicago:20260321T100000
DTEND;TZID=America/Chicago:20260321T150000
DTSTAMP:20260421T105510
CREATED:20260228T191918Z
LAST-MODIFIED:20260301T173608Z
UID:10876-1774087200-1774105200@dhtoysmn.com
SUMMARY:Toys Swap
DESCRIPTION:Stop by and shop new and vintage toys from local vendors.  We will have 8 vendors joining us at D&H Toys & Collectibles selling action figures\, dolls\, Funko Pops\, and more.
URL:https://dhtoysmn.com/event/toys-swap/
LOCATION:D&H Toys & Collectibles\, 1272 Vierling Drive East\, Shakopee\, MN\, 55379\, United States
ORGANIZER;CN="D&H Toys & Collectibles":MAILTO:dh.toys.mn@gmail.com
END:VEVENT
END:VCALENDAR